BEGIN:VCALENDAR
VERSION:2.0
PRODID:-//SV-OG - ECPv6.15.20//NONSGML v1.0//EN
CALSCALE:GREGORIAN
METHOD:PUBLISH
X-WR-CALNAME:SV-OG
X-ORIGINAL-URL:https://sv-og.de
X-WR-CALDESC:Veranstaltungen für SV-OG
REFRESH-INTERVAL;VALUE=DURATION:PT1H
X-Robots-Tag:noindex
X-PUBLISHED-TTL:PT1H
BEGIN:VTIMEZONE
TZID:UTC
BEGIN:STANDARD
TZOFFSETFROM:+0000
TZOFFSETTO:+0000
TZNAME:UTC
DTSTART:20220101T000000
END:STANDARD
END:VTIMEZONE
BEGIN:VEVENT
DTSTART;TZID=UTC:20230916T090000
DTEND;TZID=UTC:20230916T170000
DTSTAMP:20260422T230808
CREATED:20221231T000006Z
LAST-MODIFIED:20230105T074316Z
UID:2240-1694854800-1694883600@sv-og.de
SUMMARY:"Physiotherapie am Hund" - Dozenten Nicole Engroff & Carmen Sauer
DESCRIPTION:Physiotherapie = Hund ?! Wie passt das zusammen ?!?!\nHabt Ihr euch schon mal darüber Gedanken gemacht euren Hund zu massieren ? oder vorm Gassi/ Fahrrad fahren oder sogar Joggen aufzuwärmen ? oder habt Ihr einen „Senior“ und merkt\, es ist nicht mehr alles so beweglich wie früher ? \nDann seid Ihr bei uns genau richtig! \nWir möchten euch in diesem Seminar einen kleinen theoretischen Einblick in den „Körper eures Hundes“ geben und aufklären was dort genau vorgeht. Vom Skelett über die Muskulatur bis zum Nervensystem versuchen wir euch den Körper Hund ein wenig näher zu bringen. \nIn dem Praxisteil zeigen wir euch verschiedene Basis- & Dehnübungen sowie ein paar Massagegriffe um eurem Hund das Leben in seinem Körper ein wenig angenehmer zu machen. \nWir bauen einen kleinen Fitnessparcour auf und geben euch Ideen mit auf dem Weg\, wie Ihr den Spaziergang zu einem Erlebnis für euren Hund inkl. Fitnessübungen machen könnt. \nFür eure Verpflegung ist bestens gesorgt. Die Teilnehmerzahl ist auf 20 Personen begrenzt. Teilnahme ist mit oder ohne Hund möglich\, Sozialverträglichkeit vorausgesetzt. \nMitglieder bekommen Sonderkonditionen \nBitte aktiviere JavaScript in deinem Browser\, um dieses Formular fertigzustellen.Seminaranmeldung *"Erste Hilfe am Hund" am 01. Februar 2026Name *VornameNachnameTelefonnummerE-Mail *Names des HundesAlter des HundesAbsenden
URL:https://sv-og.de/event/physiotherapie-am-hund-dozenten-nicole-engroff-carmen-sauer/
LOCATION:Vereinsgelände SV-OG Großauheim\, Josef-Bautz-Straße 1a\, Hanau\, Hessen\, 63457\, Deutschland
CATEGORIES:Seminare
ATTACH;FMTTYPE=image/jpeg:https://sv-og.de/wp-content/uploads/2022/12/IMG_2680-2.jpg
ORGANIZER;CN="SV-OG Gro%C3%9Fauheim":MAILTO:info@sv-og.de
END:VEVENT
END:VCALENDAR