BEGIN:VCALENDAR
VERSION:2.0
PRODID:-//SV-OG - ECPv6.15.20//NONSGML v1.0//EN
CALSCALE:GREGORIAN
METHOD:PUBLISH
X-WR-CALNAME:SV-OG
X-ORIGINAL-URL:https://sv-og.de
X-WR-CALDESC:Veranstaltungen für SV-OG
REFRESH-INTERVAL;VALUE=DURATION:PT1H
X-Robots-Tag:noindex
X-PUBLISHED-TTL:PT1H
BEGIN:VTIMEZONE
TZID:UTC
BEGIN:STANDARD
TZOFFSETFROM:+0000
TZOFFSETTO:+0000
TZNAME:UTC
DTSTART:20250101T000000
END:STANDARD
END:VTIMEZONE
BEGIN:VEVENT
DTSTART;TZID=UTC:20260509T093000
DTEND;TZID=UTC:20260509T133000
DTSTAMP:20260421T013548
CREATED:20241216T093308Z
LAST-MODIFIED:20260117T192350Z
UID:2931-1778319000-1778333400@sv-og.de
SUMMARY:2. Arbeitseinsatz
DESCRIPTION:Gemeinsam anpacken für unseren Verein! 💪🏽✨\nEs ist wieder soweit: Unser nächster Arbeitseinsatz im Verein steht an\, und wir brauchen Euch! Gemeinsam wollen wir unseren Verein verschönern\, pflegen und für alle Mitglieder noch einladender machen. \n🌟 Was steht an? \n\nPflege der Außenanlagen 🌱\nKleine Reparaturen 🔧\nAufräumarbeiten 🗑️\nVorbereitung für kommende Veranstaltungen 🎉\n\n🗓️ Wann: 09. Mai 2026\n⏰ Uhrzeit: 09:30 Uhr – 13:30 Uhr\n📍 Treffpunkt: Vereinsgelände \nWir freuen uns über jede helfende Hand – egal\, ob jung oder alt\, groß oder klein. Gemeinsam schaffen wir mehr und stärken dabei den Zusammenhalt in unserem Verein. 💕 \n🎒 Das solltet ihr mitbringen: \n\nGute Laune und Teamgeist! 😄\nArbeitshandschuhe\, falls vorhanden 🧤\nWerkzeug (z. B. Besen\, Schaufel)\, wenn möglich\n\nZum Abschluss laden wir alle Helfer zu einem kleinen Snack und Getränken ein\, als Dankeschön für Eure Unterstützung. 🍩☕ \n💡 Anmeldung:\nBitte gebt uns Bescheid\, wenn Ihr dabei seid\, damit wir besser planen können! Schreibt uns eine Nachricht oder tragt Euch in die Liste im Vereinsheim ein. \nGemeinsam machen wir unseren Verein zu einem Ort\, auf den wir alle stolz sein können. 💙🐾 \nWir zählen auf Euch – seid dabei!
URL:https://sv-og.de/event/2-arbeitseinsatz/
LOCATION:Vereinsgelände SV-OG Großauheim\, Josef-Bautz-Straße 1a\, Hanau\, Hessen\, 63457\, Deutschland
CATEGORIES:Arbeitseinsatz
ATTACH;FMTTYPE=image/png:https://sv-og.de/wp-content/uploads/2024/12/Arbeitseinsatz-OG-6.png
ORGANIZER;CN="SV-OG Gro%C3%9Fauheim":MAILTO:info@sv-og.de
END:VEVENT
BEGIN:VEVENT
DTSTART;TZID=UTC:20260531T100000
DTEND;TZID=UTC:20260531T160000
DTSTAMP:20260421T013548
CREATED:20241216T094255Z
LAST-MODIFIED:20260117T191629Z
UID:2949-1780221600-1780243200@sv-og.de
SUMMARY:WARM-UP & COOL DOWN
DESCRIPTION:Warm-Up & Cool-Down beim Hund\nSicher trainieren. Verletzungen vorbeugen. Leistung erhalten.\nOb Training\, Turnier oder ambitionierter Freizeitsport: \nDer Körper deines Hundes wird im Hundesport stark gefordert. Ein korrektes Warm-Up vor der Belastung und ein gezieltes Cool-Down danach sind entscheidend\, um Verletzungen zu vermeiden\, die Leistungsfähigkeit zu erhaltenund die Regeneration zu fördern. \nIn diesem praxisnahen Seminar lernst du\, wie du deinen Hund optimal auf sportliche Belastung vorbereitest und ihn anschließend sinnvoll wieder herunterfährst – direkt umsetzbar auf dem Trainingsplatz. \nDas erwartet dich\n\n\nWarum Warm-Up & Cool-Down im Hundesport so wichtig sind \n\n\nVerständliche Grundlagen zu Muskeln\, Gelenken & Belastung \n\n\nEffektive Warm-Up-Übungen vor Training und Wettkampf \n\n\nSinnvolle Cool-Down-Techniken nach sportlicher Arbeit \n\n\nAnpassung der Übungen an Sportart\, Trainingsstand und Hund \n\n\nWarnsignale erkennen: Wann ist Training zu viel? \n\n\n👉 Praxis steht im Vordergrund – die Übungen werden direkt erklärt und demonstriert. \nFür wen ist das Seminar geeignet?\n\n\nHundehalter \n\n\nHundesportler aller Sparten \n\n\nTrainer & Übungsleiter \n\n\nEgal ob Anfänger oder erfahrener Sportler – das Seminar bietet wertvolles Wissen für jedes Trainingsniveau. \n\nWarum du dabei sein solltest\n✔ Mehr Sicherheit im Training \n✔ Weniger Verletzungsrisiko \n✔ Bessere Beweglichkeit & Leistungsfähigkeit \n✔ Nachhaltiges Training für ein langes\, gesundes Hundesportleben \n  \n🎟️ Anmeldung:\nDie Plätze sind begrenzt! Melden Sie sich jetzt über das Kontaktformular an. Teilnahmegebühr: 50\,00 EUR \nHelfen Sie Ihrem Hund\, fit und gesund zu bleiben – mit den richtigen Techniken!\nWir freuen uns auf Sie und Ihren Vierbeiner. 🐾
URL:https://sv-og.de/event/warm-up-cool-down/
LOCATION:Vereinsgelände SV-OG Großauheim\, Josef-Bautz-Straße 1a\, Hanau\, Hessen\, 63457\, Deutschland
CATEGORIES:Seminare
ATTACH;FMTTYPE=image/png:https://sv-og.de/wp-content/uploads/2024/12/Warm-UP-OG-Facebook-Post-2.png
END:VEVENT
BEGIN:VEVENT
DTSTART;TZID=UTC:20260614T100000
DTEND;TZID=UTC:20260614T170000
DTSTAMP:20260421T013548
CREATED:20240803T182452Z
LAST-MODIFIED:20260117T200526Z
UID:2781-1781431200-1781456400@sv-og.de
SUMMARY:105-jähriges Vereinsjubiläum
DESCRIPTION:Einladung zum 105-jährigen Vereinsjubiläum\nSV-OG Großauheim\n  \nDer SV-OG Großauheim feiert 105 Jahre Vereinsgeschichte – und das möchten wir gemeinsam mit euch feiern! \n📅 Sonntag\, 14. Juni 2026 \n🕙 Beginn: ab 10:00 Uhr \n📍 Vereinsgelände \nJosef-Bautz-Str. 1a\, 63457 Hanau \nFreut euch auf einen besonderen Jubiläumstag mit spannenden Einblicken in den Hundesport\, guter Musik und entspanntem Beisammensein. \nDas erwartet euch:\n\n\n🎤 Ansprachen zum Jubiläum \n\n\n🎶 Live-Musik \n\n\n🐕 Vorführungen im Hundesport \n\n\n🔥 Grill & Chill in gemütlicher Atmosphäre \n\n\n  \nOb Mitglieder\, Familien\, Freunde oder Hundesport-Interessierte – alle sind herzlich willkommen! \nWir freuen uns auf viele Gäste und ein unvergessliches Jubiläumsfest zum 105-jährigen Bestehen des SV-OG Großauheim.
URL:https://sv-og.de/event/tag-der-offen-tuer-hunderennen/
LOCATION:Vereinsgelände SV-OG Großauheim\, Josef-Bautz-Straße 1a\, Hanau\, Hessen\, 63457\, Deutschland
CATEGORIES:Feierlichkeit/Veranstaltung
ATTACH;FMTTYPE=image/png:https://sv-og.de/wp-content/uploads/2024/08/Schwarz-Bunt-Karneval-Promotion-Verein-Party-Datum-Instagram-Post.png
ORGANIZER;CN="SV-OG Gro%C3%9Fauheim":MAILTO:info@sv-og.de
END:VEVENT
BEGIN:VEVENT
DTSTART;TZID=UTC:20260912T093000
DTEND;TZID=UTC:20260912T133000
DTSTAMP:20260421T013548
CREATED:20241216T093658Z
LAST-MODIFIED:20260117T192224Z
UID:2939-1789205400-1789219800@sv-og.de
SUMMARY:3. Arbeitseinsatz
DESCRIPTION:Gemeinsam anpacken für unseren Verein! 💪🏽✨\nEs ist wieder soweit: Unser nächster Arbeitseinsatz im Verein steht an\, und wir brauchen Euch! Gemeinsam wollen wir unseren Verein verschönern\, pflegen und für alle Mitglieder noch einladender machen. \n🌟 Was steht an? \n\nPflege der Außenanlagen 🌱\nKleine Reparaturen 🔧\nAufräumarbeiten 🗑️\nVorbereitung für kommende Veranstaltungen 🎉\n\n🗓️ Wann: 12. September 2026\n⏰ Uhrzeit: 09:30 Uhr – 13:30 Uhr\n📍 Treffpunkt: Vereinsgelände \nWir freuen uns über jede helfende Hand – egal\, ob jung oder alt\, groß oder klein. Gemeinsam schaffen wir mehr und stärken dabei den Zusammenhalt in unserem Verein. 💕 \n🎒 Das solltet ihr mitbringen: \n\nGute Laune und Teamgeist! 😄\nArbeitshandschuhe\, falls vorhanden 🧤\nWerkzeug (z. B. Besen\, Schaufel)\, wenn möglich\n\nZum Abschluss laden wir alle Helfer zu einem kleinen Snack und Getränken ein\, als Dankeschön für Eure Unterstützung. 🍩☕ \n💡 Anmeldung:\nBitte gebt uns Bescheid\, wenn Ihr dabei seid\, damit wir besser planen können! Schreibt uns eine Nachricht oder tragt Euch in die Liste im Vereinsheim ein. \nGemeinsam machen wir unseren Verein zu einem Ort\, auf den wir alle stolz sein können. 💙🐾 \nWir zählen auf Euch – seid dabei!
URL:https://sv-og.de/event/3-arbeitseinsatz/
LOCATION:Vereinsgelände SV-OG Großauheim\, Josef-Bautz-Straße 1a\, Hanau\, Hessen\, 63457\, Deutschland
CATEGORIES:Arbeitseinsatz
ATTACH;FMTTYPE=image/png:https://sv-og.de/wp-content/uploads/2024/12/Arbeitseinsatz-OG-7.png
ORGANIZER;CN="SV-OG Gro%C3%9Fauheim":MAILTO:info@sv-og.de
END:VEVENT
BEGIN:VEVENT
DTSTART;VALUE=DATE:20260919
DTEND;VALUE=DATE:20260920
DTSTAMP:20260421T013548
CREATED:20241216T093809Z
LAST-MODIFIED:20260117T192044Z
UID:2941-1789776000-1789862399@sv-og.de
SUMMARY:Hundebadetag Hanau
DESCRIPTION:Nähere Infos folgen
URL:https://sv-og.de/event/hundebadetag-hanau/
LOCATION:Hessen
CATEGORIES:Feierlichkeit/Veranstaltung
ATTACH;FMTTYPE=image/png:https://sv-og.de/wp-content/uploads/2024/12/Kopie-von-Blue-red-fresh-funny-Hello-Summer-Instagram-post-2.png
END:VEVENT
BEGIN:VEVENT
DTSTART;VALUE=DATE:20261212
DTEND;VALUE=DATE:20270117
DTSTAMP:20260421T013548
CREATED:20241216T094449Z
LAST-MODIFIED:20260117T191038Z
UID:2953-1797033600-1800143999@sv-og.de
SUMMARY:Winterpause
DESCRIPTION:Nähere Infos folgen
URL:https://sv-og.de/event/winterpause-3/
LOCATION:Vereinsgelände SV-OG Großauheim\, Josef-Bautz-Straße 1a\, Hanau\, Hessen\, 63457\, Deutschland
CATEGORIES:Standard
ATTACH;FMTTYPE=image/png:https://sv-og.de/wp-content/uploads/2024/12/Ab-dem-06.01.24-sind-wir-wieder-wie-gewohnt-fuer-euch-da-3.png
ORGANIZER;CN="SV-OG Gro%C3%9Fauheim":MAILTO:info@sv-og.de
END:VEVENT
BEGIN:VEVENT
DTSTART;TZID=UTC:20261212T180000
DTEND;TZID=UTC:20261212T230000
DTSTAMP:20260421T013548
CREATED:20241216T094348Z
LAST-MODIFIED:20260117T191220Z
UID:2951-1797098400-1797116400@sv-og.de
SUMMARY:Weihnachtsfeier
DESCRIPTION:Ho\, Ho\, Ho! 🎅🎄 Weihnachtsfeier für unsere Vereinsmitglieder\nDas Jahr neigt sich dem Ende zu\, und wir möchten es mit Euch in festlicher Stimmung ausklingen lassen. Unsere Weihnachtsfeier steht vor der Tür\, und wir freuen uns darauf\, gemeinsam mit Euch einen gemütlichen Abend zu verbringen! \n🗓️ Wann: 12. Dezember 2025\n⏰ Uhrzeit: 18:00 Uhr\n📍 Wo: wird vorher bekannt gegeben \n🎉 Das erwartet Euch: \n\nGemütliches Beisammensein in weihnachtlicher Atmosphäre ✨\nLeckere Speisen und Getränke 🍽️🍷\nSpiele\, Spaß und ein kleines Weihnachtsquiz 🎁❓\n\nBitte meldet Euch bis zum 20. November 2026 an\, damit wir besser planen können.\nAnmeldung über info@sv-og.de oder unsere Liste im Vereinsheim. \n🎄 Wichtiger Hinweis:\nGerne könnt Ihr auch etwas Kleines beitragen – sei es ein selbstgebackener Kuchen\, ein Salat oder eine andere Leckerei. Gebt uns einfach Bescheid\, was Ihr mitbringen möchtet. \nWir freuen uns darauf\, mit Euch einen wunderbaren Abend zu verbringen und das Vereinsjahr gemeinsam ausklingen zu lassen. \nFrohe Festtage und bis bald!\nEuer Team von der SV-OG Großauheim
URL:https://sv-og.de/event/weihnachtsfeier-2/
LOCATION:Vereinsgelände SV-OG Großauheim\, Josef-Bautz-Straße 1a\, Hanau\, Hessen\, 63457\, Deutschland
CATEGORIES:Feierlichkeit/Veranstaltung
ATTACH;FMTTYPE=image/png:https://sv-og.de/wp-content/uploads/2024/12/Weihnachtsfeier-OG-.png
ORGANIZER;CN="SV-OG Gro%C3%9Fauheim":MAILTO:info@sv-og.de
END:VEVENT
BEGIN:VEVENT
DTSTART;TZID=UTC:20261213T130000
DTEND;TZID=UTC:20261213T200000
DTSTAMP:20260421T013548
CREATED:20241116T152658Z
LAST-MODIFIED:20260117T192817Z
UID:2911-1797166800-1797192000@sv-og.de
SUMMARY:Weihnachtsmarkt Großauheim 13-20 Uhr
DESCRIPTION:„Advent\, Advent\, ein Lichtlein brennt…..“ \nDieses Jahr findet Ihr uns wieder auf unserem Großauheimer Weihnachtsmarkt… wir würden uns freuen den ein oder anderen vor Ort anzutreffen. \n\n\n\n\n\n\n\n\n\n\nOrt der Veranstaltung \nHans-Gruber-Platz\nHans-Gruber-Platz 1\n63457 Hanau \n\n\n\n\nVeranstalter und Kontakt \nInteressengemeinschaft Großauheimer & Wolfgänger Vereine und Verbände IGWV\nHeidelerchenweg 1 \n63457 Hanau\n\n\n\n  \n 
URL:https://sv-og.de/event/weihnachtsmarkt-13-20-uhr/
LOCATION:Alte Schule Großauheim\, Hans-Gruber-Platz 1\, Hanau-Großauheim\, 63457
CATEGORIES:Feierlichkeit/Veranstaltung
ATTACH;FMTTYPE=image/png:https://sv-og.de/wp-content/uploads/2024/11/Weihnachtsmarkt-OG.png
END:VEVENT
BEGIN:VEVENT
DTSTART;TZID=UTC:20270115T190000
DTEND;TZID=UTC:20270115T220000
DTSTAMP:20260421T013548
CREATED:20241216T094603Z
LAST-MODIFIED:20260117T190911Z
UID:2955-1800039600-1800050400@sv-og.de
SUMMARY:Jahreshauptversammlung
DESCRIPTION:Nähere Infos folgen
URL:https://sv-og.de/event/jahreshauptversammlung-2/
LOCATION:Vereinsgelände SV-OG Großauheim\, Josef-Bautz-Straße 1a\, Hanau\, Hessen\, 63457\, Deutschland
CATEGORIES:Feierlichkeit/Veranstaltung
ATTACH;FMTTYPE=image/png:https://sv-og.de/wp-content/uploads/2024/12/JHV-OG.png
ORGANIZER;CN="SV-OG Gro%C3%9Fauheim":MAILTO:info@sv-og.de
END:VEVENT
END:VCALENDAR